
BEGIN:VCALENDAR
VERSION:2.0
PRODID:-//S4B Manchester - ECPv6.15.17.1//NONSGML v1.0//EN
CALSCALE:GREGORIAN
METHOD:PUBLISH
X-WR-CALNAME:S4B Manchester
X-ORIGINAL-URL:https://s4bmanchester.co.uk
X-WR-CALDESC:Events for S4B Manchester
REFRESH-INTERVAL;VALUE=DURATION:PT1H
X-Robots-Tag:noindex
X-PUBLISHED-TTL:PT1H
BEGIN:VTIMEZONE
TZID:Europe/London
BEGIN:DAYLIGHT
TZOFFSETFROM:+0000
TZOFFSETTO:+0100
TZNAME:BST
DTSTART:20250330T010000
END:DAYLIGHT
BEGIN:STANDARD
TZOFFSETFROM:+0100
TZOFFSETTO:+0000
TZNAME:GMT
DTSTART:20251026T010000
END:STANDARD
BEGIN:DAYLIGHT
TZOFFSETFROM:+0000
TZOFFSETTO:+0100
TZNAME:BST
DTSTART:20260329T010000
END:DAYLIGHT
BEGIN:STANDARD
TZOFFSETFROM:+0100
TZOFFSETTO:+0000
TZNAME:GMT
DTSTART:20261025T010000
END:STANDARD
BEGIN:DAYLIGHT
TZOFFSETFROM:+0000
TZOFFSETTO:+0100
TZNAME:BST
DTSTART:20270328T010000
END:DAYLIGHT
BEGIN:STANDARD
TZOFFSETFROM:+0100
TZOFFSETTO:+0000
TZNAME:GMT
DTSTART:20271031T010000
END:STANDARD
END:VTIMEZONE
BEGIN:VEVENT
DTSTART;TZID=Europe/London:20260416T140000
DTEND;TZID=Europe/London:20260416T150000
DTSTAMP:20260420T223553
CREATED:20250821T131034Z
LAST-MODIFIED:20250821T140254Z
UID:10001394-1776348000-1776351600@s4bmanchester.co.uk
SUMMARY:Block Inspection - Lamport Court
DESCRIPTION:Block Inspections:  Lamport Court at 2.00pm – Every 3rd Thursday of each month. \n  \n 
URL:https://s4bmanchester.co.uk/event/block-inspection-lamport-court/2026-04-16/
LOCATION:Lamport Court\, Lamport Court\, Manchester\, M1 7EG\, United Kingdom
END:VEVENT
BEGIN:VEVENT
DTSTART;TZID=Europe/London:20260414T143000
DTEND;TZID=Europe/London:20260414T153000
DTSTAMP:20260420T223553
CREATED:20250821T134809Z
LAST-MODIFIED:20250821T134809Z
UID:10001760-1776177000-1776180600@s4bmanchester.co.uk
SUMMARY:Block Inspections - Hursthead Walk\, Skerry Close & Helmshore Walk
DESCRIPTION:Block Inspections at Hursthead Walk\, Skerry Close & Helmshore Walk take place every 2nd Tuesday of each month. \nMeet at Hursthead Walk M13 9UT at 2:30PM. \n  \n  \n 
URL:https://s4bmanchester.co.uk/event/block-inspections-hursthead-walk-skerry-close-helmshore-walk/2026-04-14/
LOCATION:Hurstead Walk\, Manchester\, M13 9UT
END:VEVENT
BEGIN:VEVENT
DTSTART;TZID=Europe/London:20260414T140000
DTEND;TZID=Europe/London:20260414T150000
DTSTAMP:20260420T223553
CREATED:20250821T135127Z
LAST-MODIFIED:20250821T135412Z
UID:10001821-1776175200-1776178800@s4bmanchester.co.uk
SUMMARY:Block Inspections - Lockton Close\, Litcham Close\, Merrow Walk & Mancroft Walk
DESCRIPTION:Block Inspections at Lockton Close\, Litcham Close\, Merrow Walk & Mancroft Walk take place every 2nd Tuesday of each month. \nMeet at Lockton Close M1 9JG at 2PM \n  \n  \n 
URL:https://s4bmanchester.co.uk/event/block-inspections-lockton-close-litcham-close-merrow-walk-mancroft-walk/2026-04-14/
LOCATION:Lockton Close\, Manchester\, M1 7JG
END:VEVENT
BEGIN:VEVENT
DTSTART;TZID=Europe/London:20260414T100000
DTEND;TZID=Europe/London:20260414T160000
DTSTAMP:20260420T223553
CREATED:20251009T153533Z
LAST-MODIFIED:20251009T153612Z
UID:10002274-1776160800-1776182400@s4bmanchester.co.uk
SUMMARY:Money Advice Drop-in sessions and appointments
DESCRIPTION:Need a little help with your finances\, due to increases in the cost of living\, rent and other outgoings? S4B’s Money Advice team is here to help. We now have two Money Advice Specialists working in Brunswick who are able to offer in-person appointments at the housing office\, or even in your own home. \nWe offer twice weekly Money Advice drop-in sessions – no appointment required\, just come along to the S4B housing office\, 15 Brunswick Street. M13 9SU. \nTuesdays with Yvette Brown\n10:00am-4:00pm\nFridays with Hira Saleem\n10:00am-4:00pm \nHowever\, if you would like to speak to Yvette or Hira on a more confidential basis\, please get in touch to make an appointment. Send a WhatsApp message to 07500 065 270\, email info@s4bmanchester.co.uk give us a call on 0300 555 0128 or visit the S4B housing office. \nVisit  Money Matters | S4B Manchester for more information.
URL:https://s4bmanchester.co.uk/event/money-advice-drop-in-sessions-and-appointments/2026-04-14/
LOCATION:S4B Housing Office\, 15 Brunswick Street\, Manchester\, Lancs\, M13 9SU\, United Kingdom
END:VEVENT
BEGIN:VEVENT
DTSTART;TZID=Europe/London:20260413T170000
DTEND;TZID=Europe/London:20260413T183000
DTSTAMP:20260420T223553
CREATED:20250701T115441Z
LAST-MODIFIED:20250707T094907Z
UID:10000586-1776099600-1776105000@s4bmanchester.co.uk
SUMMARY:Brunswick Youth Club
DESCRIPTION:
URL:https://s4bmanchester.co.uk/event/brunswick-youth-club/2026-04-13/
LOCATION:Brunswick Community Space\, 50 Brunswick Street\, Manchester\, Lancs\, M13 9PE\, United Kingdom
END:VEVENT
BEGIN:VEVENT
DTSTART;TZID=Europe/London:20260413T130000
DTEND;TZID=Europe/London:20260413T160000
DTSTAMP:20260420T223553
CREATED:20250702T133853Z
LAST-MODIFIED:20250721T072446Z
UID:10000325-1776085200-1776096000@s4bmanchester.co.uk
SUMMARY:Rent Advice Sessions
DESCRIPTION:If you are worried about your finances\, we are here to help. \nS4B’s rent specialist\, Stuart Christian holds rent advice sessions for residents every Monday at the S4B housing office: \nBetween 1:00pm to 4:00pm \nPlease get in touch to arrange an appointment. \nSend a WhatsApp message to 07500 065 270\, email info@s4bmanchester.co.uk\, visit the S4B housing office\, or give us a call on 0300 555 0128. \n 
URL:https://s4bmanchester.co.uk/event/rent-advice-drop-in/2026-04-13/
LOCATION:S4B Housing Office\, 15 Brunswick Street\, Manchester\, Lancs\, M13 9SU\, United Kingdom
END:VEVENT
BEGIN:VEVENT
DTSTART;TZID=Europe/London:20260410T100000
DTEND;TZID=Europe/London:20260410T160000
DTSTAMP:20260420T223553
CREATED:20251009T153533Z
LAST-MODIFIED:20251009T153612Z
UID:10002273-1775815200-1775836800@s4bmanchester.co.uk
SUMMARY:Money Advice Drop-in sessions and appointments
DESCRIPTION:Need a little help with your finances\, due to increases in the cost of living\, rent and other outgoings? S4B’s Money Advice team is here to help. We now have two Money Advice Specialists working in Brunswick who are able to offer in-person appointments at the housing office\, or even in your own home. \nWe offer twice weekly Money Advice drop-in sessions – no appointment required\, just come along to the S4B housing office\, 15 Brunswick Street. M13 9SU. \nTuesdays with Yvette Brown\n10:00am-4:00pm\nFridays with Hira Saleem\n10:00am-4:00pm \nHowever\, if you would like to speak to Yvette or Hira on a more confidential basis\, please get in touch to make an appointment. Send a WhatsApp message to 07500 065 270\, email info@s4bmanchester.co.uk give us a call on 0300 555 0128 or visit the S4B housing office. \nVisit  Money Matters | S4B Manchester for more information.
URL:https://s4bmanchester.co.uk/event/money-advice-drop-in-sessions-and-appointments/2026-04-10/
LOCATION:S4B Housing Office\, 15 Brunswick Street\, Manchester\, Lancs\, M13 9SU\, United Kingdom
END:VEVENT
BEGIN:VEVENT
DTSTART;TZID=Europe/London:20260410T100000
DTEND;TZID=Europe/London:20260410T130000
DTSTAMP:20260420T223553
CREATED:20260128T112023Z
LAST-MODIFIED:20260128T112050Z
UID:10003167-1775815200-1775826000@s4bmanchester.co.uk
SUMMARY:Youth Action Day
DESCRIPTION:
URL:https://s4bmanchester.co.uk/event/youth-action-day/
LOCATION:Gorton Hub
ORGANIZER;CN="Work and Skills":MAILTO:manchester@careerconnect.org.uk
END:VEVENT
BEGIN:VEVENT
DTSTART;TZID=Europe/London:20260410T080000
DTEND;TZID=Europe/London:20260410T170000
DTSTAMP:20260420T223553
CREATED:20250829T091625Z
LAST-MODIFIED:20250829T092122Z
UID:10001989-1775808000-1775840400@s4bmanchester.co.uk
SUMMARY:What's on in Manchester?
DESCRIPTION:What’s on this week in Manchester\n\n\n\nFind out what’s on in Manchester today\, tomorrow\, the rest of the week and beyond with Visit Manchester’s guide to what’s new in the region!\n\nEverything from family fun\, theatre and gig ideas and getting out into nature\, there really is something here for everyone. \nWhat’s on in Manchester this week | Visit Manchester
URL:https://s4bmanchester.co.uk/event/whats-on-in-manchester-check-it-out/2026-04-10/
LOCATION:Manchester City Centre\, M1 4EE
END:VEVENT
BEGIN:VEVENT
DTSTART;TZID=Europe/London:20260409T140000
DTEND;TZID=Europe/London:20260409T150000
DTSTAMP:20260420T223553
CREATED:20250821T133521Z
LAST-MODIFIED:20250821T133604Z
UID:10001699-1775743200-1775746800@s4bmanchester.co.uk
SUMMARY:Block Inspection - Artillery Court
DESCRIPTION:Block Inspections at Artillery Court take place at 2pm every 2nd Thursday of each month. \nJust come along and join the team. \n  \n  \n 
URL:https://s4bmanchester.co.uk/event/block-inspection-artillery-court/2026-04-09/
LOCATION:Artillery Court\, Manchester\, M13 9TU
END:VEVENT
BEGIN:VEVENT
DTSTART;TZID=Europe/London:20260407T100000
DTEND;TZID=Europe/London:20260407T160000
DTSTAMP:20260420T223553
CREATED:20251009T153533Z
LAST-MODIFIED:20251009T153612Z
UID:10002272-1775556000-1775577600@s4bmanchester.co.uk
SUMMARY:Money Advice Drop-in sessions and appointments
DESCRIPTION:Need a little help with your finances\, due to increases in the cost of living\, rent and other outgoings? S4B’s Money Advice team is here to help. We now have two Money Advice Specialists working in Brunswick who are able to offer in-person appointments at the housing office\, or even in your own home. \nWe offer twice weekly Money Advice drop-in sessions – no appointment required\, just come along to the S4B housing office\, 15 Brunswick Street. M13 9SU. \nTuesdays with Yvette Brown\n10:00am-4:00pm\nFridays with Hira Saleem\n10:00am-4:00pm \nHowever\, if you would like to speak to Yvette or Hira on a more confidential basis\, please get in touch to make an appointment. Send a WhatsApp message to 07500 065 270\, email info@s4bmanchester.co.uk give us a call on 0300 555 0128 or visit the S4B housing office. \nVisit  Money Matters | S4B Manchester for more information.
URL:https://s4bmanchester.co.uk/event/money-advice-drop-in-sessions-and-appointments/2026-04-07/
LOCATION:S4B Housing Office\, 15 Brunswick Street\, Manchester\, Lancs\, M13 9SU\, United Kingdom
END:VEVENT
BEGIN:VEVENT
DTSTART;TZID=Europe/London:20260406T170000
DTEND;TZID=Europe/London:20260406T183000
DTSTAMP:20260420T223553
CREATED:20250701T115441Z
LAST-MODIFIED:20250707T094907Z
UID:10000585-1775494800-1775500200@s4bmanchester.co.uk
SUMMARY:Brunswick Youth Club
DESCRIPTION:
URL:https://s4bmanchester.co.uk/event/brunswick-youth-club/2026-04-06/
LOCATION:Brunswick Community Space\, 50 Brunswick Street\, Manchester\, Lancs\, M13 9PE\, United Kingdom
END:VEVENT
BEGIN:VEVENT
DTSTART;TZID=Europe/London:20260406T130000
DTEND;TZID=Europe/London:20260406T160000
DTSTAMP:20260420T223553
CREATED:20250702T133853Z
LAST-MODIFIED:20250721T072446Z
UID:10000324-1775480400-1775491200@s4bmanchester.co.uk
SUMMARY:Rent Advice Sessions
DESCRIPTION:If you are worried about your finances\, we are here to help. \nS4B’s rent specialist\, Stuart Christian holds rent advice sessions for residents every Monday at the S4B housing office: \nBetween 1:00pm to 4:00pm \nPlease get in touch to arrange an appointment. \nSend a WhatsApp message to 07500 065 270\, email info@s4bmanchester.co.uk\, visit the S4B housing office\, or give us a call on 0300 555 0128. \n 
URL:https://s4bmanchester.co.uk/event/rent-advice-drop-in/2026-04-06/
LOCATION:S4B Housing Office\, 15 Brunswick Street\, Manchester\, Lancs\, M13 9SU\, United Kingdom
END:VEVENT
BEGIN:VEVENT
DTSTART;TZID=Europe/London:20260403T100000
DTEND;TZID=Europe/London:20260403T160000
DTSTAMP:20260420T223553
CREATED:20251009T153533Z
LAST-MODIFIED:20251009T153612Z
UID:10002271-1775210400-1775232000@s4bmanchester.co.uk
SUMMARY:Money Advice Drop-in sessions and appointments
DESCRIPTION:Need a little help with your finances\, due to increases in the cost of living\, rent and other outgoings? S4B’s Money Advice team is here to help. We now have two Money Advice Specialists working in Brunswick who are able to offer in-person appointments at the housing office\, or even in your own home. \nWe offer twice weekly Money Advice drop-in sessions – no appointment required\, just come along to the S4B housing office\, 15 Brunswick Street. M13 9SU. \nTuesdays with Yvette Brown\n10:00am-4:00pm\nFridays with Hira Saleem\n10:00am-4:00pm \nHowever\, if you would like to speak to Yvette or Hira on a more confidential basis\, please get in touch to make an appointment. Send a WhatsApp message to 07500 065 270\, email info@s4bmanchester.co.uk give us a call on 0300 555 0128 or visit the S4B housing office. \nVisit  Money Matters | S4B Manchester for more information.
URL:https://s4bmanchester.co.uk/event/money-advice-drop-in-sessions-and-appointments/2026-04-03/
LOCATION:S4B Housing Office\, 15 Brunswick Street\, Manchester\, Lancs\, M13 9SU\, United Kingdom
END:VEVENT
BEGIN:VEVENT
DTSTART;TZID=Europe/London:20260403T080000
DTEND;TZID=Europe/London:20260403T170000
DTSTAMP:20260420T223553
CREATED:20250829T091625Z
LAST-MODIFIED:20250829T092122Z
UID:10001988-1775203200-1775235600@s4bmanchester.co.uk
SUMMARY:What's on in Manchester?
DESCRIPTION:What’s on this week in Manchester\n\n\n\nFind out what’s on in Manchester today\, tomorrow\, the rest of the week and beyond with Visit Manchester’s guide to what’s new in the region!\n\nEverything from family fun\, theatre and gig ideas and getting out into nature\, there really is something here for everyone. \nWhat’s on in Manchester this week | Visit Manchester
URL:https://s4bmanchester.co.uk/event/whats-on-in-manchester-check-it-out/2026-04-03/
LOCATION:Manchester City Centre\, M1 4EE
END:VEVENT
BEGIN:VEVENT
DTSTART;TZID=Europe/London:20260402T140000
DTEND;TZID=Europe/London:20260402T150000
DTSTAMP:20260420T223553
CREATED:20250821T140445Z
LAST-MODIFIED:20250821T140445Z
UID:10001213-1775138400-1775142000@s4bmanchester.co.uk
SUMMARY:Block Inspection - Lockton Court
DESCRIPTION:Block Inspections at Lockton Court take place at 2.00pm every 1st Thursday of each month. \nJust come along and join the team.
URL:https://s4bmanchester.co.uk/event/block-inspection-lockton-court-2/2026-04-02/
LOCATION:Lockton Court\, Manchester\, M1 7JQ
CATEGORIES:Community
END:VEVENT
BEGIN:VEVENT
DTSTART;TZID=Europe/London:20260402T100000
DTEND;TZID=Europe/London:20260402T113000
DTSTAMP:20260420T223553
CREATED:20250707T110351Z
LAST-MODIFIED:20250821T142941Z
UID:10001881-1775124000-1775129400@s4bmanchester.co.uk
SUMMARY:Monthly Estate Walkabout
DESCRIPTION:S4B hosts an Estate Walkabout with MCC\, BTARA\, with other Agencies & Residents every month. \nMeet at Brunswick Church at 10am. Just come along.
URL:https://s4bmanchester.co.uk/event/estate-walkabout-3/2026-04-02/
LOCATION:Brunswick Church\, Brunswick Street\, Manchester\, M13 9SX\, United Kingdom
END:VEVENT
BEGIN:VEVENT
DTSTART;TZID=Europe/London:20260401T190000
DTEND;TZID=Europe/London:20260401T203000
DTSTAMP:20260420T223553
CREATED:20250821T144843Z
LAST-MODIFIED:20250821T145036Z
UID:10001941-1775070000-1775075400@s4bmanchester.co.uk
SUMMARY:Brunswick Tenants and Residents Association - monthly meeting
DESCRIPTION:Brunswick Tenants and residents Association (BTARA) meet every month in Brunswick Village Community Space. \nThis is an open meeting and all Brunswick customers are welcome to come along. Representatives from S4B\, MCC and a local Councillor(s) are also usually in attendance. \nFor more information please get in touch with BTARA via Email: btaraofficial@gmail.com. \nOr contact S4B\, send a WhatsApp message to 07500 065 270\, email info@s4bmanchester.co.uk or give us a call on 0300 555 0128.
URL:https://s4bmanchester.co.uk/event/brunswick-tenants-and-residents-association-monthly-meeting/2026-04-01/
LOCATION:Brunswick Community Space\, 50 Brunswick Street\, Manchester\, Lancs\, M13 9PE\, United Kingdom
END:VEVENT
BEGIN:VEVENT
DTSTART;TZID=Europe/London:20260401T080000
DTEND;TZID=Europe/London:20260401T170000
DTSTAMP:20260420T223553
CREATED:20260126T102459Z
LAST-MODIFIED:20260126T121615Z
UID:10003135-1775030400-1775062800@s4bmanchester.co.uk
SUMMARY:Customer Photography Competition -  Entries for this month now OPEN!
DESCRIPTION:The S4B Photography Competition is Back! | S4B Manchester \n \nEntries for this month is now open! To enter\, all you need to do is send in a photograph and you can enter just one month or multiple\, the choice is yours. A winner will be chosen at the end of each month and at the end of the year the winning photos will be compiled into a 2027 calendar. \nThe competition is open to all Brunswick tenants and residents\, including Leaseholders. There is no age limit\,  t’s and c’s here. \nPhotographs can be anything you want\, and whatever you feel is a true representation of Brunswick; the people\, properties\, green space\, seasonal weather\, flora and fauna etc. Whatever you like! \nThere are some great prizes to be won. There will be a winner each month plus an overall winner and two runners up at the end of the year: \n\n£10 shopping voucher for one winner each month Jan-Dec\n£50 overall winner at the end of the year\n£25 each for two runners up at the end of the year\n\nSo not only can you win a monthly prize you could also be in with a chance of winning another prize at the end of the year! The deadline for entries is the last day of each month (Jan-Dec). \nSend your photos in via WhatsApp to 07418 367 396\, email to info@s4bmanchester.co.uk\, or bring them into the S4B housing office to be in with a chance of winning a prize. \nThe deadline for each month’s entry is the end of each month and judging will take place shortly after each deadline closes. \nFor more information\, please give us a call on 0300 555 0128.
URL:https://s4bmanchester.co.uk/event/customer-photography-competition-entries-for-this-month-now-open/2026-04-01/
LOCATION:S4B Housing Office\, 15 Brunswick Street\, Manchester\, Lancs\, M13 9SU\, United Kingdom
END:VEVENT
BEGIN:VEVENT
DTSTART;TZID=Europe/London:20260331T100000
DTEND;TZID=Europe/London:20260331T160000
DTSTAMP:20260420T223553
CREATED:20251009T153533Z
LAST-MODIFIED:20251009T153612Z
UID:10002270-1774951200-1774972800@s4bmanchester.co.uk
SUMMARY:Money Advice Drop-in sessions and appointments
DESCRIPTION:Need a little help with your finances\, due to increases in the cost of living\, rent and other outgoings? S4B’s Money Advice team is here to help. We now have two Money Advice Specialists working in Brunswick who are able to offer in-person appointments at the housing office\, or even in your own home. \nWe offer twice weekly Money Advice drop-in sessions – no appointment required\, just come along to the S4B housing office\, 15 Brunswick Street. M13 9SU. \nTuesdays with Yvette Brown\n10:00am-4:00pm\nFridays with Hira Saleem\n10:00am-4:00pm \nHowever\, if you would like to speak to Yvette or Hira on a more confidential basis\, please get in touch to make an appointment. Send a WhatsApp message to 07500 065 270\, email info@s4bmanchester.co.uk give us a call on 0300 555 0128 or visit the S4B housing office. \nVisit  Money Matters | S4B Manchester for more information.
URL:https://s4bmanchester.co.uk/event/money-advice-drop-in-sessions-and-appointments/2026-03-31/
LOCATION:S4B Housing Office\, 15 Brunswick Street\, Manchester\, Lancs\, M13 9SU\, United Kingdom
END:VEVENT
BEGIN:VEVENT
DTSTART;TZID=Europe/London:20260330T170000
DTEND;TZID=Europe/London:20260330T183000
DTSTAMP:20260420T223553
CREATED:20250701T115441Z
LAST-MODIFIED:20250707T094907Z
UID:10000584-1774890000-1774895400@s4bmanchester.co.uk
SUMMARY:Brunswick Youth Club
DESCRIPTION:
URL:https://s4bmanchester.co.uk/event/brunswick-youth-club/2026-03-30/
LOCATION:Brunswick Community Space\, 50 Brunswick Street\, Manchester\, Lancs\, M13 9PE\, United Kingdom
END:VEVENT
BEGIN:VEVENT
DTSTART;TZID=Europe/London:20260330T130000
DTEND;TZID=Europe/London:20260330T160000
DTSTAMP:20260420T223553
CREATED:20250702T133853Z
LAST-MODIFIED:20250721T072446Z
UID:10000323-1774875600-1774886400@s4bmanchester.co.uk
SUMMARY:Rent Advice Sessions
DESCRIPTION:If you are worried about your finances\, we are here to help. \nS4B’s rent specialist\, Stuart Christian holds rent advice sessions for residents every Monday at the S4B housing office: \nBetween 1:00pm to 4:00pm \nPlease get in touch to arrange an appointment. \nSend a WhatsApp message to 07500 065 270\, email info@s4bmanchester.co.uk\, visit the S4B housing office\, or give us a call on 0300 555 0128. \n 
URL:https://s4bmanchester.co.uk/event/rent-advice-drop-in/2026-03-30/
LOCATION:S4B Housing Office\, 15 Brunswick Street\, Manchester\, Lancs\, M13 9SU\, United Kingdom
END:VEVENT
BEGIN:VEVENT
DTSTART;TZID=Europe/London:20260327T100000
DTEND;TZID=Europe/London:20260327T160000
DTSTAMP:20260420T223553
CREATED:20251009T153533Z
LAST-MODIFIED:20251009T153612Z
UID:10002269-1774605600-1774627200@s4bmanchester.co.uk
SUMMARY:Money Advice Drop-in sessions and appointments
DESCRIPTION:Need a little help with your finances\, due to increases in the cost of living\, rent and other outgoings? S4B’s Money Advice team is here to help. We now have two Money Advice Specialists working in Brunswick who are able to offer in-person appointments at the housing office\, or even in your own home. \nWe offer twice weekly Money Advice drop-in sessions – no appointment required\, just come along to the S4B housing office\, 15 Brunswick Street. M13 9SU. \nTuesdays with Yvette Brown\n10:00am-4:00pm\nFridays with Hira Saleem\n10:00am-4:00pm \nHowever\, if you would like to speak to Yvette or Hira on a more confidential basis\, please get in touch to make an appointment. Send a WhatsApp message to 07500 065 270\, email info@s4bmanchester.co.uk give us a call on 0300 555 0128 or visit the S4B housing office. \nVisit  Money Matters | S4B Manchester for more information.
URL:https://s4bmanchester.co.uk/event/money-advice-drop-in-sessions-and-appointments/2026-03-27/
LOCATION:S4B Housing Office\, 15 Brunswick Street\, Manchester\, Lancs\, M13 9SU\, United Kingdom
END:VEVENT
BEGIN:VEVENT
DTSTART;TZID=Europe/London:20260327T080000
DTEND;TZID=Europe/London:20260327T170000
DTSTAMP:20260420T223553
CREATED:20250829T091625Z
LAST-MODIFIED:20250829T092122Z
UID:10001987-1774598400-1774630800@s4bmanchester.co.uk
SUMMARY:What's on in Manchester?
DESCRIPTION:What’s on this week in Manchester\n\n\n\nFind out what’s on in Manchester today\, tomorrow\, the rest of the week and beyond with Visit Manchester’s guide to what’s new in the region!\n\nEverything from family fun\, theatre and gig ideas and getting out into nature\, there really is something here for everyone. \nWhat’s on in Manchester this week | Visit Manchester
URL:https://s4bmanchester.co.uk/event/whats-on-in-manchester-check-it-out/2026-03-27/
LOCATION:Manchester City Centre\, M1 4EE
END:VEVENT
BEGIN:VEVENT
DTSTART;TZID=Europe/London:20260326T140000
DTEND;TZID=Europe/London:20260326T150000
DTSTAMP:20260420T223553
CREATED:20250821T130832Z
LAST-MODIFIED:20250821T133146Z
UID:10001333-1774533600-1774537200@s4bmanchester.co.uk
SUMMARY:Block Inspection - Silkin Court
DESCRIPTION:Block Inspections at Silkin Court take place at 2.00pm every 4th Thursday of each month. \nJust come along and join the team.
URL:https://s4bmanchester.co.uk/event/block-inspection-silkin-court/2026-03-26/
LOCATION:Silkin Court\, Manchester\, M13 9UY
END:VEVENT
BEGIN:VEVENT
DTSTART;TZID=Europe/London:20260326T080000
DTEND;TZID=Europe/London:20260326T170000
DTSTAMP:20260420T223553
CREATED:20260126T120429Z
LAST-MODIFIED:20260126T121215Z
UID:10003146-1774512000-1774544400@s4bmanchester.co.uk
SUMMARY:Customer Photography Competition - Entries for this month closing soon!
DESCRIPTION:The S4B Photography Competition | S4B Manchester \n \nThe end of the month is fast approaching so entries for this month will be closing soon. To enter\, all you need to do is send in a photograph to us each month. You can enter just one month or multiple\, the choice is yours. A winner will be chosen at the end of each month and at the end of the year the winning photos will be compiled into a 2027 calendar. \nSend your photos in now via WhatsApp to 07418 367 396\, email to info@s4bmanchester.co.uk\, or bring them into the S4B housing office to be in with a chance of winning a prize. \nThe competition is open to all Brunswick tenants and residents\, including Leaseholders. There is no age limit\,  t’s and c’s here. \nPhotographs can be anything you want\, and whatever you feel is a true representation of Brunswick; the people\, properties\, green space\, seasonal weather\, flora and fauna etc. Whatever you like! \nThere are some great prizes to be won. There will be a winner each month plus an overall winner and two runners up at the end of the year: \n\n£10 shopping voucher for one winner each month Jan-Dec\n£50 overall winner at the end of the year\n£25 each for two runners up at the end of the year\n\nSo not only can you win a monthly prize you could also be in with a chance of winning another prize at the end of the year! The deadline for entries is the last day of each month (Jan-Dec). \nThe deadline for each month’s entry is the end of the month – judging will take place shortly after each deadline closes. \nFor more information\, please give us a call on 0300 555 0128.
URL:https://s4bmanchester.co.uk/event/customer-photography-competition-entries-for-this-month-closing-soon/2026-03-26/
LOCATION:S4B Housing Office\, 15 Brunswick Street\, Manchester\, Lancs\, M13 9SU\, United Kingdom
END:VEVENT
BEGIN:VEVENT
DTSTART;TZID=Europe/London:20260324T100000
DTEND;TZID=Europe/London:20260324T160000
DTSTAMP:20260420T223553
CREATED:20251009T153533Z
LAST-MODIFIED:20251009T153612Z
UID:10002268-1774346400-1774368000@s4bmanchester.co.uk
SUMMARY:Money Advice Drop-in sessions and appointments
DESCRIPTION:Need a little help with your finances\, due to increases in the cost of living\, rent and other outgoings? S4B’s Money Advice team is here to help. We now have two Money Advice Specialists working in Brunswick who are able to offer in-person appointments at the housing office\, or even in your own home. \nWe offer twice weekly Money Advice drop-in sessions – no appointment required\, just come along to the S4B housing office\, 15 Brunswick Street. M13 9SU. \nTuesdays with Yvette Brown\n10:00am-4:00pm\nFridays with Hira Saleem\n10:00am-4:00pm \nHowever\, if you would like to speak to Yvette or Hira on a more confidential basis\, please get in touch to make an appointment. Send a WhatsApp message to 07500 065 270\, email info@s4bmanchester.co.uk give us a call on 0300 555 0128 or visit the S4B housing office. \nVisit  Money Matters | S4B Manchester for more information.
URL:https://s4bmanchester.co.uk/event/money-advice-drop-in-sessions-and-appointments/2026-03-24/
LOCATION:S4B Housing Office\, 15 Brunswick Street\, Manchester\, Lancs\, M13 9SU\, United Kingdom
END:VEVENT
BEGIN:VEVENT
DTSTART;TZID=Europe/London:20260323T170000
DTEND;TZID=Europe/London:20260323T183000
DTSTAMP:20260420T223553
CREATED:20250701T115441Z
LAST-MODIFIED:20250707T094907Z
UID:10000583-1774285200-1774290600@s4bmanchester.co.uk
SUMMARY:Brunswick Youth Club
DESCRIPTION:
URL:https://s4bmanchester.co.uk/event/brunswick-youth-club/2026-03-23/
LOCATION:Brunswick Community Space\, 50 Brunswick Street\, Manchester\, Lancs\, M13 9PE\, United Kingdom
END:VEVENT
BEGIN:VEVENT
DTSTART;TZID=Europe/London:20260323T130000
DTEND;TZID=Europe/London:20260323T160000
DTSTAMP:20260420T223553
CREATED:20250702T133853Z
LAST-MODIFIED:20250721T072446Z
UID:10000322-1774270800-1774281600@s4bmanchester.co.uk
SUMMARY:Rent Advice Sessions
DESCRIPTION:If you are worried about your finances\, we are here to help. \nS4B’s rent specialist\, Stuart Christian holds rent advice sessions for residents every Monday at the S4B housing office: \nBetween 1:00pm to 4:00pm \nPlease get in touch to arrange an appointment. \nSend a WhatsApp message to 07500 065 270\, email info@s4bmanchester.co.uk\, visit the S4B housing office\, or give us a call on 0300 555 0128. \n 
URL:https://s4bmanchester.co.uk/event/rent-advice-drop-in/2026-03-23/
LOCATION:S4B Housing Office\, 15 Brunswick Street\, Manchester\, Lancs\, M13 9SU\, United Kingdom
END:VEVENT
BEGIN:VEVENT
DTSTART;TZID=Europe/London:20260320T100000
DTEND;TZID=Europe/London:20260320T160000
DTSTAMP:20260420T223553
CREATED:20251009T153533Z
LAST-MODIFIED:20251009T153612Z
UID:10002267-1774000800-1774022400@s4bmanchester.co.uk
SUMMARY:Money Advice Drop-in sessions and appointments
DESCRIPTION:Need a little help with your finances\, due to increases in the cost of living\, rent and other outgoings? S4B’s Money Advice team is here to help. We now have two Money Advice Specialists working in Brunswick who are able to offer in-person appointments at the housing office\, or even in your own home. \nWe offer twice weekly Money Advice drop-in sessions – no appointment required\, just come along to the S4B housing office\, 15 Brunswick Street. M13 9SU. \nTuesdays with Yvette Brown\n10:00am-4:00pm\nFridays with Hira Saleem\n10:00am-4:00pm \nHowever\, if you would like to speak to Yvette or Hira on a more confidential basis\, please get in touch to make an appointment. Send a WhatsApp message to 07500 065 270\, email info@s4bmanchester.co.uk give us a call on 0300 555 0128 or visit the S4B housing office. \nVisit  Money Matters | S4B Manchester for more information.
URL:https://s4bmanchester.co.uk/event/money-advice-drop-in-sessions-and-appointments/2026-03-20/
LOCATION:S4B Housing Office\, 15 Brunswick Street\, Manchester\, Lancs\, M13 9SU\, United Kingdom
END:VEVENT
END:VCALENDAR